BEGIN:VCALENDAR
VERSION:2.0
PRODID:icalendar-ruby
CALSCALE:GREGORIAN
METHOD:PUBLISH
BEGIN:VEVENT
DTSTAMP:20260423T175645Z
UID:31-514461@curtisroad.com
DTSTART:20261026T230000Z
DTEND:20261027T000000Z
CLASS:PUBLIC
CREATED:20260423T125642
DESCRIPTION:Open Court Pickle Ball
LAST-MODIFIED:20260423T125642
LOCATION:CRCOG Gym
SUMMARY:Open Court Pickle Ball
URL;VALUE=URI:https://curtisroad.com/events/open-court-pickle-ball/2026-10-
 26
ATTACH;FILENAME=Pickle-ball-%285%29.001.png;FMTTYPE=image/png:https://dq5pw
 pg1q8ru0.cloudfront.net/2025/09/29/18/44/50/a92bfd4e-b256-4bb4-b572-902e07
 4caf92/Pickle-ball-%25285%2529.001.png
END:VEVENT
END:VCALENDAR
