BEGIN:VCALENDAR
VERSION:2.0
PRODID:icalendar-ruby
CALSCALE:GREGORIAN
METHOD:PUBLISH
BEGIN:VEVENT
DTSTAMP:20260423T171815Z
UID:33-514142@curtisroad.com
DTSTART:20261027T233000Z
DTEND:20261028T003000Z
CLASS:PUBLIC
CREATED:20260423T100100
DESCRIPTION:Ladies Bible Study
LAST-MODIFIED:20260423T100100
LOCATION:CRCOG Cafe
SUMMARY:Ladies Bible Study
URL;VALUE=URI:https://curtisroad.com/events/ladies-bible-study/2026-10-27
ATTACH;FILENAME=Ladies-Bible-Study-Going-deeper.png;FMTTYPE=image/png:https
 ://dq5pwpg1q8ru0.cloudfront.net/2025/09/29/18/44/20/02e9a10e-142b-4236-b87
 8-7577aa43fa2d/Ladies-Bible-Study-Going-deeper.png
END:VEVENT
END:VCALENDAR
