BEGIN:VCALENDAR
VERSION:2.0
PRODID:icalendar-ruby
CALSCALE:GREGORIAN
METHOD:PUBLISH
BEGIN:VEVENT
DTSTAMP:20260423T162925Z
UID:32-514084@curtisroad.com
DTSTART:20261022T220000Z
DTEND:20261022T230000Z
CLASS:PUBLIC
CREATED:20260423T100100
DESCRIPTION:Corporate Prayer
LAST-MODIFIED:20260423T100100
LOCATION:CRCOG Sanctuary
SUMMARY:Corporate Prayer
URL;VALUE=URI:https://curtisroad.com/events/corporate-prayer/2026-10-22
ATTACH;FILENAME=image.jpg;FMTTYPE=image/jpeg:https://dq5pwpg1q8ru0.cloudfro
 nt.net/2025/09/29/18/42/49/76cc87aa-a1e9-499e-8902-17f6ccf5cf12/image.jpg
END:VEVENT
END:VCALENDAR
